BEGIN:VCALENDAR
VERSION:2.0
CALSCALE:GREGORIAN
PRODID:adamgibbons/ics
METHOD:PUBLISH
X-PUBLISHED-TTL:PT1H
BEGIN:VEVENT
UID:162@botep.org
SUMMARY:FESTIVAL ALTRI MONDI ALTRI MODI – VANCHIGLIA QUARTIERE PARTIGIANO
DTSTAMP:20260421T130014Z
DTSTART:20260503T170000Z
DTEND:20260504T100000Z
URL:https://botep.org/event/festival-altri-mondi-altri-modi-vanchiglia-quar
	tiere-partigiano
LOCATION:Area Pedonale Via Balbo - Via Cesare Balbo\, 10124\, Torino
STATUS:CONFIRMED
CATEGORIES:benefit,concerto,presentazione,torino
END:VEVENT
BEGIN:VEVENT
UID:161@botep.org
SUMMARY:Cinemino Clandestino 4/5 - Exit Through the Gift Shop
DTSTAMP:20260421T130014Z
DTSTART:20260504T183000Z
DTEND:20260504T210000Z
URL:https://botep.org/event/cinemino-clandestino-45-exit-through-the-gift-s
	hop
LOCATION:Salotto di Miranda - Via Buscalioni 17/21 Torino
STATUS:CONFIRMED
CATEGORIES:Rassegna cinematografica,torino
END:VEVENT
BEGIN:VEVENT
UID:157@botep.org
SUMMARY:Cinemino Clandestino 5/5 - Good Copy Bad Copy
DTSTAMP:20260421T130014Z
DTSTART:20260511T183000Z
DTEND:20260511T210000Z
URL:https://botep.org/event/cinemino-clandestino-55-good-copy-bad-copy
LOCATION:Salotto di Miranda - Via Buscalioni 17/21 Torino
STATUS:CONFIRMED
CATEGORIES:Rassegna cinematografica,torino
END:VEVENT
END:VCALENDAR
